BEGIN:VCALENDAR
VERSION:2.0
PRODID:-//Escuela de Cine y Artes Visuales - ECPv5.9.1//NONSGML v1.0//EN
CALSCALE:GREGORIAN
METHOD:PUBLISH
X-WR-CALNAME:Escuela de Cine y Artes Visuales
X-ORIGINAL-URL:https://cine.ufm.edu
X-WR-CALDESC:Eventos para Escuela de Cine y Artes Visuales
BEGIN:VTIMEZONE
TZID:America/Chicago
BEGIN:DAYLIGHT
TZOFFSETFROM:-0600
TZOFFSETTO:-0500
TZNAME:CDT
DTSTART:20260308T080000
END:DAYLIGHT
BEGIN:STANDARD
TZOFFSETFROM:-0500
TZOFFSETTO:-0600
TZNAME:CST
DTSTART:20261101T070000
END:STANDARD
END:VTIMEZONE
BEGIN:VEVENT
DTSTART;TZID=America/Chicago:20260211T173000
DTEND;TZID=America/Chicago:20260211T193000
DTSTAMP:20260425T230543
CREATED:20260228T001907Z
LAST-MODIFIED:20260228T001907Z
UID:14180-1770831000-1770838200@cine.ufm.edu
SUMMARY:Cine Foro: La Piel del Agua (2024)
DESCRIPTION:Participa de la proyección de la película La Piel del Agua (2024)\, un largometraje costarricense dirigido por Patricia Velásquez. \nSinopsis: Camila tiene quince años y atraviesa el peor momento de su vida: su madre está en coma y ella se ve forzada a vivir con su padre\, al que detesta. En Diego\, su primer amor\, intenta encontrar refugio\, pero todo en él es caótico y extraño. La piel del agua es el punto máximo de tensión de un líquido antes de desbordarse. \nAl finalizar la película\, Patricia Velásquez\, guionista\, productora y directora del largometraje\, analizará la obra cinematográfica\, seguido de un conversatorio en el que podrás participar con tus preguntas. \nDía: Miércoles 11 de febrero\, 2026\nHora: 17:30\nLugar: Sala de Cine UFM. Edificio Cultural\, primer nivel. \nEntrada gratuita | Evento Abierto al público \nTarifa especial de parqueo Q40 (en efectivo) \n 
URL:https://cine.ufm.edu/event/cine-foro-la-piel-del-agua-2024/
LOCATION:Escuela de Cine y Artes Visuales\, Universidad Francisco Marroquin\, Centro Cultural\, Primer Nivel\, Guatemala
CATEGORIES:Cine Foro UFM
ORGANIZER;CN="Universidad%20Francisco%20Marroqu%C3%ADn":MAILTO:inf@ufm.edu
END:VEVENT
END:VCALENDAR