BEGIN:VCALENDAR
VERSION:2.0
PRODID:-//Escuela de Cine y Artes Visuales - ECPv5.9.1//NONSGML v1.0//EN
CALSCALE:GREGORIAN
METHOD:PUBLISH
X-WR-CALNAME:Escuela de Cine y Artes Visuales
X-ORIGINAL-URL:https://cine.ufm.edu
X-WR-CALDESC:Eventos para Escuela de Cine y Artes Visuales
BEGIN:VTIMEZONE
TZID:America/Chicago
BEGIN:DAYLIGHT
TZOFFSETFROM:-0600
TZOFFSETTO:-0500
TZNAME:CDT
DTSTART:20260308T080000
END:DAYLIGHT
BEGIN:STANDARD
TZOFFSETFROM:-0500
TZOFFSETTO:-0600
TZNAME:CST
DTSTART:20261101T070000
END:STANDARD
END:VTIMEZONE
BEGIN:VEVENT
DTSTART;TZID=America/Chicago:20260410T080000
DTEND;TZID=America/Chicago:20260411T170000
DTSTAMP:20260425T202149
CREATED:20260228T155008Z
LAST-MODIFIED:20260306T185948Z
UID:14194-1775808000-1775926800@cine.ufm.edu
SUMMARY:Exámen de Admisión para 2027
DESCRIPTION:Próximas fechas para exámenes de admisión: \n\nViernes 10 y sábado 11 de abril del 2026\n\nAplica aquí  \nÚltimo día fecha de pago sábado 28 de marzo\, 2026 \nPara más información visita: cine.ufm.edu/aplica/
URL:https://cine.ufm.edu/event/examen-de-admision-para-2027-2/
LOCATION:Escuela de Cine y Artes Visuales\, Universidad Francisco Marroquin\, Centro Cultural\, Primer Nivel\, Guatemala
CATEGORIES:Exámen de Admisión UFM
ATTACH;FMTTYPE=image/jpeg:https://cine.ufm.edu/wp-content/uploads/2023/10/20220912_mc_edith_12.jpg
ORGANIZER;CN="Universidad%20Francisco%20Marroqu%C3%ADn":MAILTO:inf@ufm.edu
END:VEVENT
END:VCALENDAR