BEGIN:VCALENDAR
VERSION:2.0
PRODID:-//Escuela de Cine y Artes Visuales - ECPv5.9.1//NONSGML v1.0//EN
CALSCALE:GREGORIAN
METHOD:PUBLISH
X-WR-CALNAME:Escuela de Cine y Artes Visuales
X-ORIGINAL-URL:https://cine.ufm.edu
X-WR-CALDESC:Eventos para Escuela de Cine y Artes Visuales
BEGIN:VTIMEZONE
TZID:America/Chicago
BEGIN:DAYLIGHT
TZOFFSETFROM:-0600
TZOFFSETTO:-0500
TZNAME:CDT
DTSTART:20260308T080000
END:DAYLIGHT
BEGIN:STANDARD
TZOFFSETFROM:-0500
TZOFFSETTO:-0600
TZNAME:CST
DTSTART:20261101T070000
END:STANDARD
END:VTIMEZONE
BEGIN:VEVENT
DTSTART;TZID=America/Chicago:20260218T180000
DTEND;TZID=America/Chicago:20260218T200000
DTSTAMP:20260425T230705
CREATED:20260228T002458Z
LAST-MODIFIED:20260228T002458Z
UID:14182-1771437600-1771444800@cine.ufm.edu
SUMMARY:Film Talk: Aprendizajes sobre la producción de cine independiente
DESCRIPTION:Conoce y conversa sobre los desafíos\, aprendizajes y exploraciones detrás de la producción de cine independiente.  Abordaremos las claves creativas y metodológicas que han marcado el proceso para  Patricia Velásquez\, directora\, productora y guionista costarricense. \n\nmiércoles 18 de febrero del 2026 | 6:00 p.m \nSala de Cine UFM\,  Centro Cultural Universidad Francisco Marroquín\n\nInscríbete aquí \nEvento gratuito | Abierto al público general 
URL:https://cine.ufm.edu/event/film-talk-aprendizajes-sobre-la-produccion-de-cine-independiente/
LOCATION:Escuela de Cine y Artes Visuales\, Universidad Francisco Marroquin\, Centro Cultural\, Primer Nivel\, Guatemala
CATEGORIES:Film Talk
ORGANIZER;CN="Universidad%20Francisco%20Marroqu%C3%ADn":MAILTO:inf@ufm.edu
END:VEVENT
END:VCALENDAR