BEGIN:VCALENDAR
VERSION:2.0
PRODID:-//Escuela de Cine y Artes Visuales - ECPv5.9.1//NONSGML v1.0//EN
CALSCALE:GREGORIAN
METHOD:PUBLISH
X-WR-CALNAME:Escuela de Cine y Artes Visuales
X-ORIGINAL-URL:https://cine.ufm.edu
X-WR-CALDESC:Eventos para Escuela de Cine y Artes Visuales
BEGIN:VTIMEZONE
TZID:America/Chicago
BEGIN:DAYLIGHT
TZOFFSETFROM:-0600
TZOFFSETTO:-0500
TZNAME:CDT
DTSTART:20260308T080000
END:DAYLIGHT
BEGIN:STANDARD
TZOFFSETFROM:-0500
TZOFFSETTO:-0600
TZNAME:CST
DTSTART:20261101T070000
END:STANDARD
END:VTIMEZONE
BEGIN:VEVENT
DTSTART;TZID=America/Chicago:20260326T180000
DTEND;TZID=America/Chicago:20260326T210000
DTSTAMP:20260425T214515
CREATED:20260228T003954Z
LAST-MODIFIED:20260311T205042Z
UID:14188-1774548000-1774558800@cine.ufm.edu
SUMMARY:GIFF Festival de Cine de Guanajuato | Muestra Internacional de Cortometrajes
DESCRIPTION:Proyección de cortometrajes realizados por cineastas de todo el mundo y premiados en festivales; seguido de un análisis cinematográfico a cargo de invitados especiales. \nDía: jueves 26 de marzo\, 2026\nHora: 6:00 p.m.\nLugar: Sala de Cine UFM | Primer nivel\, Edificio Cultural (6 calle final\, zona 10\, Ciudad de Guatemala) \nEntrada libre | Tarifa de parqueo especial Q40 (en efectivo) \nRegistrate Aquí \nCortometrajes participantes: \n \n\n+10k (Mejor Cortometraje Documental Internacional)\n\nGala Hernández López | España y Francia\, 2025 | 34 min. \n \n\nPsihonauti | Psychonauts  (Mejor Cortometraje Animación)\n\nNiko Radas | Croacia\, 2025 | 8 min. \n \n\nBuenos días Margarita (Mejor Cortometraje Guanajuato)\n\nDafne Herrera |Guanajuato\, México\, 2024 |13 min. \n \n\nManal Issa\, 2024 (Selección Oficial Experimental)\n\nElisabeth Subrin | Estados Unidos\, 2025 | 10 min. \n \n\nA Brighter Summer Day For The Lady Avengers (Mejor Cortometraje Ficción)\n\nBirdy Wei-Ting Hung | Taiwán\, Estados Unidos; 2024 | 12 min. \n \n\nGasolina (Participante en Cortometraje Guanajuato)\n\nVictor Duarte |Guanajuato\, México\, 2025 |14 min. \n 
URL:https://cine.ufm.edu/event/giff-festival-de-cine-de-guanajuato-muestra-internacional-de-cortometrajes/
LOCATION:Escuela de Cine y Artes Visuales\, Universidad Francisco Marroquin\, Centro Cultural\, Primer Nivel\, Guatemala
CATEGORIES:Cinema UFM
ATTACH;FMTTYPE=image/png:https://cine.ufm.edu/wp-content/uploads/2026/02/postc1_cine_festival_ufm_2026-1-1.png
ORGANIZER;CN="Universidad%20Francisco%20Marroqu%C3%ADn":MAILTO:inf@ufm.edu
END:VEVENT
END:VCALENDAR