BEGIN:VCALENDAR
VERSION:2.0
PRODID:-//Escuela de Cine y Artes Visuales - ECPv5.9.1//NONSGML v1.0//EN
CALSCALE:GREGORIAN
METHOD:PUBLISH
X-WR-CALNAME:Escuela de Cine y Artes Visuales
X-ORIGINAL-URL:https://cine.ufm.edu
X-WR-CALDESC:Eventos para Escuela de Cine y Artes Visuales
BEGIN:VTIMEZONE
TZID:America/Chicago
BEGIN:DAYLIGHT
TZOFFSETFROM:-0600
TZOFFSETTO:-0500
TZNAME:CDT
DTSTART:20260308T080000
END:DAYLIGHT
BEGIN:STANDARD
TZOFFSETFROM:-0500
TZOFFSETTO:-0600
TZNAME:CST
DTSTART:20261101T070000
END:STANDARD
END:VTIMEZONE
BEGIN:VEVENT
DTSTART;TZID=America/Chicago:20260213T170000
DTEND;TZID=America/Chicago:20260214T130000
DTSTAMP:20260425T230527
CREATED:20260227T235815Z
LAST-MODIFIED:20260227T235815Z
UID:14178-1771002000-1771074000@cine.ufm.edu
SUMMARY:Master Class: Introducción a Dirección de Actores de Cine y Series
DESCRIPTION:Impartida por Patricia Velásquez\, directora\, productora y guionista costarricense. \nPotencia la dirección de actores para cine y series desde una mirada creativa y profesional. Aprende a comunicar visión\, construir personajes vivos y guiar interpretaciones auténticas frente a cámara. Una formación clave para directores que buscan actuaciones sólidas\, coherentes y emocionalmente creíbles. \nAprendizajes  \n\nTécnicas de dirección de actores aplicadas a cine y series.\nHerramientas de comunicación efectiva con intérpretes.\nConstrucción de personajes y arcos emocionales creíbles.\nMétodos para obtener actuaciones orgánicas frente a cámara.\n\nInscríbete aquí
URL:https://cine.ufm.edu/event/master-class-introduccion-a-direccion-de-actores-de-cine-y-series/
LOCATION:Escuela de Cine y Artes Visuales\, Universidad Francisco Marroquin\, Centro Cultural\, Primer Nivel\, Guatemala
CATEGORIES:Master Class
ORGANIZER;CN="Universidad%20Francisco%20Marroqu%C3%ADn":MAILTO:inf@ufm.edu
END:VEVENT
END:VCALENDAR